BEGIN:VCALENDAR
VERSION:2.0
PRODID:-//Didier MATRY - ECPv5.6.0//NONSGML v1.0//EN
CALSCALE:GREGORIAN
METHOD:PUBLISH
X-WR-CALNAME:Didier MATRY
X-ORIGINAL-URL:https://didiermatry.com
X-WR-CALDESC:évènements pour Didier MATRY
BEGIN:VTIMEZONE
TZID:Europe/Paris
BEGIN:DAYLIGHT
TZOFFSETFROM:+0100
TZOFFSETTO:+0200
TZNAME:CEST
DTSTART:20260329T010000
END:DAYLIGHT
BEGIN:STANDARD
TZOFFSETFROM:+0200
TZOFFSETTO:+0100
TZNAME:CET
DTSTART:20261025T010000
END:STANDARD
END:VTIMEZONE
BEGIN:VEVENT
DTSTART;TZID=Europe/Paris:20261206T160000
DTEND;TZID=Europe/Paris:20261206T170000
DTSTAMP:20260420T041015
CREATED:20260318T133052Z
LAST-MODIFIED:20260318T133052Z
UID:770-1796572800-1796576400@didiermatry.com
SUMMARY:"Magie de la Voix et de l'Orgue" à l'église Saint-Merry (Paris)
DESCRIPTION:« Magie de la Voix et de l’Orgue » à l’église Saint-Merry (Paris) \nSofia Falkovitch\, Mezzo-Soprano et Didier Matry\, orgue \n 
URL:https://didiermatry.com/concert/magie-de-la-voix-et-de-lorgue-a-leglise-saint-merry-paris/
END:VEVENT
END:VCALENDAR